BEGIN:VCALENDAR
VERSION:2.0
PRODID:-//Ekomatcentrum - The Swedish Centre for Organic Food - ECPv6.15.20//NONSGML v1.0//EN
CALSCALE:GREGORIAN
METHOD:PUBLISH
X-WR-CALNAME:Ekomatcentrum - The Swedish Centre for Organic Food
X-ORIGINAL-URL:https://ekomatcentrum.se
X-WR-CALDESC:Händelser för Ekomatcentrum - The Swedish Centre for Organic Food
REFRESH-INTERVAL;VALUE=DURATION:PT1H
X-Robots-Tag:noindex
X-PUBLISHED-TTL:PT1H
BEGIN:VTIMEZONE
TZID:Europe/Stockholm
BEGIN:DAYLIGHT
TZOFFSETFROM:+0100
TZOFFSETTO:+0200
TZNAME:CEST
DTSTART:20240331T010000
END:DAYLIGHT
BEGIN:STANDARD
TZOFFSETFROM:+0200
TZOFFSETTO:+0100
TZNAME:CET
DTSTART:20241027T010000
END:STANDARD
BEGIN:DAYLIGHT
TZOFFSETFROM:+0100
TZOFFSETTO:+0200
TZNAME:CEST
DTSTART:20250330T010000
END:DAYLIGHT
BEGIN:STANDARD
TZOFFSETFROM:+0200
TZOFFSETTO:+0100
TZNAME:CET
DTSTART:20251026T010000
END:STANDARD
BEGIN:DAYLIGHT
TZOFFSETFROM:+0100
TZOFFSETTO:+0200
TZNAME:CEST
DTSTART:20260329T010000
END:DAYLIGHT
BEGIN:STANDARD
TZOFFSETFROM:+0200
TZOFFSETTO:+0100
TZNAME:CET
DTSTART:20261025T010000
END:STANDARD
END:VTIMEZONE
BEGIN:VEVENT
DTSTART;TZID=Europe/Stockholm:20250929T090000
DTEND;TZID=Europe/Stockholm:20250929T163000
DTSTAMP:20260423T025153
CREATED:20250818T075338Z
LAST-MODIFIED:20250902T142102Z
UID:10744-1759136400-1759163400@ekomatcentrum.se
SUMMARY:Ekomatsligan 2025
DESCRIPTION:Ekomatligan 2025 – Sveriges verktyg för hållbara offentliga måltider 				\n				\n				\n				\n							\n			\n		\n						\n				\n				\n				\n					Den 29 september 2025 välkomnar vi kostchefer\, måltidschefer och all offentlig måltidspersonal till en unik heldag på Rosendals Trädgård i Stockholm. I den grönskande oasen på Djurgården får du uppleva hur hållbar mat kan blomstra i offentliga kök. \n\nDagen bjuder på inspiration\, kunskap och praktiska verktyg – skräddarsydda för dig som arbetar med mat i kommuner och regioner.				\n				\n				\n				\n							\n			\n		\n						\n				\n				\n				\n					Ekomatligan 2025 arrangeras i samarbete med Sweden foodtech\, Klimatkommunerna och KRAV parallellt med Big Meet Summit. 				\n				\n				\n				\n									\n					\n						\n						\n							\n									Anmäl dig här\n					\n					\n				\n								\n				\n				\n				\n							\n			\n		\n						\n				\n				\n				\n					Årets Tema!				\n				\n				\n				\n					Svenskt\, ekologiskt och närodlat. Vad krävs för att det ska fungera i praktiken?				\n				\n				\n				\n							\n			\n		\n						\n				\n		\n				\n				\n									Du kommer möta välkända experter och talare inom hållbar mat (vi avslöjar snart vilka!) som delar med sig av insikter och konkreta lösningar.  Flera framstående kommuner presenterar sina bästa exempel på hur de ökat andelen ekologiska och närodlade livsmedel i sina kök – och du får chansen att ställa frågor och ta del av deras framgångsrecept.  Dessutom väntar interaktiva workshops där vi tillsammans tar oss an utmaningarna och hittar nya vägar framåt för klimatsmarta måltider.  Givetvis avslutas dagen med den högtidliga prisutdelningen av Ekomatligan 2025\, där vi hyllar årets eko-insatser i strålkastarljuset. 								\n				\n				\n				\n												\n																					Bilden är från galamiddagen Ekomatligan 2024\n										\n									\n				\n				\n				\n		\n				\n				\n					Rosendals Trädgård.				\n				\n				\n				\n					En inspirerande in-ramning för Ekomatligans event\, med grönska\, trädgårdskonst och ekologisk odling i varje hörn.				\n				\n				\n				\n							\n			\n		\n						\n				\n		\n				\n				\n									 Som deltagare får du inte bara kunskap utan också en helhetsupplevelse för smaklökarna.  \nDagen börjar med en härlig ekologisk smörgås och rykande varm dryck i trädgårdsmiljö.  \nTill lunch serveras en säsongsanpassad meny med råvaror som är både svenska\, ekologiska och närodlade\, tillagad med kärlek.  \nPå eftermiddagen njuter du av fikabuffé med lokala godsaker bland äppelträden. All mat och dryck ingår i din deltagaravgift – och allt som serveras speglar dagens tema om hållbar\, när-producerad mat. 								\n				\n				\n				\n												\n																					Paul Svensson\, gastronomisk ledare\, och Jonas Bolling mat & dryckesansvarig Rosendals Trädgård foto Malin Mörner\n										\n									\n				\n				\n				\n				\n							\n			\n		\n						\n				\n				\n		\n				\n				\n					Pris och anmälan.				\n				\n				\n				\n							\n			\n		\n						\n				\n				\n				\n					Kommuner och regioner som är fullvärdiga medlemmar i Ekomatcentrum:				\n				\n				\n				\n							\n			\n		\n						\n				\n				\n				\n									En kostnadsfri plats vardera. Ytterligare deltagare från medlemskommun/region betalar 300 kr per person (inklusive all mat och dryck under dagen). 								\n				\n				\n				\n					Kommuner och regioner som är inte är fullvärdiga medlemmar i Ekomatcentrum:				\n				\n				\n				\n							\n			\n		\n						\n				\n				\n				\n									För övriga deltagare (icke-medlemmar) är priset 795 kr per person\, mat och fika ingår. 								\n				\n				\n				\n					Sista dag för anmälan är den 15 september.				\n				\n				\n				\n									Varmt välkommen att anmäla dig och bli en del av en inspirerande dag som driver utvecklingen för hållbar mat i offentlig sektor framåt! 								\n				\n				\n				\n									\n					\n						\n						\n							\n									Anmäl dig här\n					\n					\n				\n								\n				\n				\n				\n				\n							\n			\n		\n						\n				\n		\n				\n				\n					Ekomatligan 2025 arrangeras tillsammans med:				\n				\n		\n				\n				\n																														\n				\n				\n				\n																\n															\n															\n				\n				\n				\n																														\n				\n				\n				\n																														\n				\n				\n				\n				\n				\n				\n							\n			\n						\n		\n						\n				\n				\n		\n		\n				\n				\n					\n	Ekomatsligan 2025				\n				\n				\n				\n					\n	\n	Datum och tid:	\n			september 29\n\n	\n\n	  @  \n\n\n09:00\n\n		\n\n\n\n	\n	  -  \n\n16:30\n\n\n\n	\n				\n				\n				\n				\n					\n	\n		\n\n	\n	Lägg till i kalender	\n		\n	\n\n		\n			\n									\n	Google Kalender\n\n									\n	iCalendar\n\n									\n	Outlook 365\n\n									\n	Outlook Live\n\n							\n		\n\n		\n	\n\n				\n				\n				\n				\n		\n					\n		\n				\n				\n					\n				\n				\n	\n	Rosendals Trädgård\n	\n	\n\nRosendalsterrassen 12\n	\n		\n		Stockholm\,\n\n\n	11521\n\n	Sweden\n\n\n\n\n	+ Google Map \n\n\n	\n					\n						\n	 \n\n\n	\n	Visa Plats-webbplats
URL:https://ekomatcentrum.se/aktivitet/ekomatsligan-2025/
LOCATION:Rosendals Trädgård\, Rosendalsterrassen 12\, Stockholm\, 11521\, Sweden
CATEGORIES:Event
END:VEVENT
END:VCALENDAR